BEGIN:VCALENDAR
VERSION:2.0
PRODID:-//hacksw/handcal//NONSGML v1.0//EN
BEGIN:VEVENT
DTSTART:20260424T190000
DTEND:20260424T210000
LOCATION:Sciences Po
ORGANIZER;CN=Joseph JARROUCHE - Cercle France-Liban:MAILTO:joseph.jarrouche@sciencespo.fr
SUMMARY:Le Liban, un État face à ses conflits et en quête de Justice
DESCRIPTION:Le Cercle France-Liban a le plaisir de vous convier à une conférence intitulée « Le Liban, un État face à ses conflits et en quête de Justice ».À cette occasion, nous aurons l’honneur de recevoir Adel...
URL:https://www.sciencespo-alumni.fr/fr/group/cercle-france-liban/279/calendar/le-liban-un-etat-face-a-ses-conflits-et-en-quete-de-justice/2026/04/24/8999
BEGIN:VALARM
TRIGGER:-P0DT1H0M0S
ACTION:DISPLAY
END:VALARM
END:VEVENT
END:VCALENDAR