BEGIN:VCALENDAR
VERSION:2.0
PRODID:-//hacksw/handcal//NONSGML v1.0//EN
BEGIN:VEVENT
DTSTART:20260529T172000
DTEND:20260529T190000
LOCATION:Le Grand Palais \n17 Square Jean Perrin \n75008 PARIS
ORGANIZER;CN=Gabrielle GAUCHOTTE:MAILTO:gabrielle.gauchotte@sciencespo.fr
SUMMARY:Visite guidée de l'exposition "Matisse, 1941-1954" au Grand Palais
DESCRIPTION:\nUne splendide exposition consacrée au travail d'Henri Matisse de 1941 à sa mort en 1954 se tient ce printemps au Grand Palais. Treize années d'intense création que l'artiste lui-même a appelées sa...
URL:https://www.sciencespo-alumni.fr/fr/event/visite-guidee-de-l-exposition-matisse-1941-1954-au-grand-palais/2026/05/29/8989
BEGIN:VALARM
TRIGGER:-P0DT1H0M0S
ACTION:DISPLAY
END:VALARM
END:VEVENT
END:VCALENDAR