BEGIN:VCALENDAR
VERSION:2.0
PRODID:-//hacksw/handcal//NONSGML v1.0//EN
BEGIN:VEVENT
DTSTART:20250506T183000
DTEND:20250506T200000
LOCATION:Mobilier national \n42, Avenue des Gobelins \n75013 PARIS
ORGANIZER;CN=Claude-Jeanne Collard - Club Histoire:MAILTO:claude.collard@sfr.fr
SUMMARY:Exposition Le Dernier Sacre  au Mobilier national
DESCRIPTION:\nLe Club Histoire vous conseilleL’ exposition Le Dernier Sacre  au Mobilier nationalÀ voir jusqu’au 20 juillet prochain à Paris\nLe Mobilier national présente une exposition sur le sacre du roi...
URL:https://www.sciencespo-alumni.fr/fr/group/club-histoire/95/calendar/exposition-le-dernier-sacre-au-mobilier-national/2025/05/06/8259
BEGIN:VALARM
TRIGGER:-P0DT1H0M0S
ACTION:DISPLAY
END:VALARM
END:VEVENT
END:VCALENDAR