BEGIN:VCALENDAR
VERSION:2.0
PRODID:-//hacksw/handcal//NONSGML v1.0//EN
BEGIN:VEVENT
DTSTART:20241122T173000
DTEND:20241122T190000
LOCATION:Petit Palais \nAvenue Winston Churchill \n75008 PARIS
ORGANIZER;CN=Emma Lehobey:MAILTO:emma.lehobey@sciencespo.fr
SUMMARY:Visite guidée de l'exposition "José de Ribera" au Petit Palais
DESCRIPTION:\nRIBERA. Ténèbres et lumière.\nLa France n'a jamais consacré de rétrospective au grand maître espagnol José de Ribera, né à Jativa dans la province de Valence en 1591 et mort à Naples en 1652. Le...
URL:https://www.sciencespo-alumni.fr/fr/event/visite-guidee-de-l-exposition-jose-de-ribera-au-petit-palais/2024/11/22/7725
BEGIN:VALARM
TRIGGER:-P0DT1H0M0S
ACTION:DISPLAY
END:VALARM
END:VEVENT
END:VCALENDAR