BEGIN:VCALENDAR
VERSION:2.0
PRODID:-//hacksw/handcal//NONSGML v1.0//EN
BEGIN:VEVENT
DTSTART:20230124T090000
DTEND:20230124T180000
LOCATION:Sciences Po - Salle Goguel \n27, Rue Saint-Guillaume \n75007 PARIS
ORGANIZER;CN=Thomas Vandenschrick:MAILTO:thomas.vandenschrick@sciencespo.fr
SUMMARY:Appréhender les étapes-clés du processus d’acquisition d’une PME
DESCRIPTION:\nReprendre une entreprise est une aventure passionnante, c’est aussi un processus long et complexe. Pour vous accompagner dans votre projet, le groupe Entreprendre vous invite à participer à cette...
URL:https://www.sciencespo-alumni.fr/fr/event/apprehender-les-etapes-cles-du-processus-d-acquisition-d-une-pme/2023/01/24/5929
BEGIN:VALARM
TRIGGER:-P0DT1H0M0S
ACTION:DISPLAY
END:VALARM
END:VEVENT
END:VCALENDAR