BEGIN:VCALENDAR
VERSION:2.0
PRODID:-//hacksw/handcal//NONSGML v1.0//EN
BEGIN:VEVENT
DTSTART:20200507T183000
DTEND:20200507T210000
LOCATION:Association des Sciences Po
ORGANIZER;CN=Sciences Po Alumni:MAILTO:info@sciencespo-alumni.fr
SUMMARY:Cycle PUBLIC/PRIVE
DESCRIPTION: Identifier les possibilités qui s'offrent à vous au sein du Para-Public ou dans le Privé, mesurer le chemin à parcourir pour « traduire » vos compétences de manière opérationnelle, aborder les étapes...
URL:https://www.sciencespo-alumni.fr/fr/event/cycle-public-prive/2020/05/07/4303
BEGIN:VALARM
TRIGGER:-P0DT1H0M0S
ACTION:DISPLAY
END:VALARM
END:VEVENT
END:VCALENDAR