BEGIN:VCALENDAR
VERSION:2.0
PRODID:-//hacksw/handcal//NONSGML v1.0//EN
BEGIN:VEVENT
DTSTART:20201022T180000
DTEND:20201022T203000
LOCATION:Association des SciencesPo
ORGANIZER;CN=Sciences Po Alumni:MAILTO:info@sciencespo-alumni.fr
SUMMARY:LISTE D'ATTENTE - Optimiser sa présence sur LinkedIn
DESCRIPTION:Optimiser son profil, accroître sa visibilité et élargir son réseau grâce à LinkedIn\nCet atelier est pour vous si :Vous maîtrisez les fonctionnalités de base de LinkedIn et avez déjà un compteVous...
URL:https://www.sciencespo-alumni.fr/fr/event/liste-d-attente-optimiser-sa-presence-sur-linkedin/2020/10/22/4263
BEGIN:VALARM
TRIGGER:-P0DT1H0M0S
ACTION:DISPLAY
END:VALARM
END:VEVENT
END:VCALENDAR