BEGIN:VCALENDAR
VERSION:2.0
PRODID:-//hacksw/handcal//NONSGML v1.0//EN
BEGIN:VEVENT
DTSTART:20201019T120000
DTEND:20201025T200000
LOCATION:7, avenue Franklin D. Roosevelt, Paris  8e
ORGANIZER;CN=Sciences Po Alumni:MAILTO:info@sciencespo-alumni.fr
SUMMARY:Private Choice
DESCRIPTION:\nLe Club Culture et Art contemporain a le plaisir de vous inviter à la 9ème édition de Private choice.La collection imaginaire et éphémère d’art et de design contemporain investit un appartement....
URL:https://www.sciencespo-alumni.fr/fr/event/private-choice/2020/10/19/4232
BEGIN:VALARM
TRIGGER:-P0DT1H0M0S
ACTION:DISPLAY
END:VALARM
END:VEVENT
END:VCALENDAR