BEGIN:VCALENDAR
VERSION:2.0
PRODID:-//hacksw/handcal//NONSGML v1.0//EN
BEGIN:VEVENT
DTSTART:20200621T100000
DTEND:20200622T000000
LOCATION:L’Yvette et le parc naturel régional de Chevreuse
ORGANIZER;CN=Sciences Po Alumni:MAILTO:info@sciencespo-alumni.fr
SUMMARY:Randonnée - La source de L’Yvette et le parc naturel régional de Chevreuse
DESCRIPTION:Chers amis,Vous étiez nombreux à l'attendre, voici le programme de notre prochaine randonnée que Danielle et Sylvie ont accepté de prendre en charge malgré les restrictions qui sévissent encore. Nous ...
URL:https://www.sciencespo-alumni.fr/fr/event/randonnee-la-source-de-l-yvette-et-le-parc-naturel-regional-de-chevreuse/2020/06/21/4142
BEGIN:VALARM
TRIGGER:-P0DT1H0M0S
ACTION:DISPLAY
END:VALARM
END:VEVENT
END:VCALENDAR