BEGIN:VCALENDAR
VERSION:2.0
PRODID:-//hacksw/handcal//NONSGML v1.0//EN
BEGIN:VEVENT
DTSTART:20200701T090000
DTEND:20200701T100000
LOCATION:
ORGANIZER;CN=Sciences Po Alumni:MAILTO:info@sciencespo-alumni.fr
SUMMARY:Webconférence - Les organisations au défi des Data
DESCRIPTION:La pandémie de COVID-19 a replongé le monde entier dans l'effroi des grandes épidémies, qu'on croyait pourtant révolues.   Mais à côté de la gestion strictement sanitaire, le grand public a...
URL:https://www.sciencespo-alumni.fr/fr/event/webconference-les-organisations-au-defi-des-data/2020/07/01/4123
BEGIN:VALARM
TRIGGER:-P0DT1H0M0S
ACTION:DISPLAY
END:VALARM
END:VEVENT
END:VCALENDAR