BEGIN:VCALENDAR
VERSION:2.0
PRODID:-//hacksw/handcal//NONSGML v1.0//EN
BEGIN:VEVENT
DTSTART:20200130T183000
DTEND:20200130T203000
LOCATION:Association des Sciences Po \n26 rue Saint-Guillaume \n75007 Paris
ORGANIZER;CN=Sciences Po Alumni:MAILTO:info@sciencespo-alumni.fr
SUMMARY:Boostez votre recherche d'emploi grâce à LinkedIn
DESCRIPTION:\nCet atelier est fait pour vous si : Vous estimez que votre profil LinkedIn est trop peu visitéOn vous appelle rarement en faisant mention de votre profil LinkedInAu programme : Cet atelier vous...
URL:https://www.sciencespo-alumni.fr/fr/event/boostez-votre-recherche-d-emploi-grace-a-linkedin/2020/01/30/3943
BEGIN:VALARM
TRIGGER:-P0DT1H0M0S
ACTION:DISPLAY
END:VALARM
END:VEVENT
END:VCALENDAR