BEGIN:VCALENDAR
VERSION:2.0
PRODID:-//hacksw/handcal//NONSGML v1.0//EN
BEGIN:VEVENT
DTSTART:20191113T183000
DTEND:20191113T203000
LOCATION:Association des Sciences-Po \n26 rue Saint-Guillaume \n75007 Paris
ORGANIZER;CN=Sciences Po Alumni:MAILTO:info@sciencespo-alumni.fr
SUMMARY:Se présenter en 3 min ou 30 sec
DESCRIPTION:Faire la différence dès le début en sachant se présenter de façon efficace et ciblée. Présentation de 30 secondes ou de 3 minutes, cet atelier vous donnera quelques éléments clés pour marquer votre...
URL:https://www.sciencespo-alumni.fr/fr/event/se-presenter-en-3-min-ou-30-sec/2019/11/13/3704
BEGIN:VALARM
TRIGGER:-P0DT1H0M0S
ACTION:DISPLAY
END:VALARM
END:VEVENT
END:VCALENDAR