BEGIN:VCALENDAR
VERSION:2.0
PRODID:-//hacksw/handcal//NONSGML v1.0//EN
BEGIN:VEVENT
DTSTART:20190614T120000
DTEND:20190615T000000
LOCATION:Restaurant de l’Automobile Club de Monaco \n23 boulevard Albert Premier \n98000 Monaco
ORGANIZER;CN=Sciences Po Alumni:MAILTO:info@sciencespo-alumni.fr
SUMMARY:Déjeuner semestriel - AC Monaco
DESCRIPTION:  Le déjeuner semestriel Alumni Cote d'Azur Monaco aura lieu : Vendredi 14 juin 2019 Accueil de 12h00 à 12h30\nRepas à 12h30Restaurant de l'Automobile Club de Monaco\n23 boulevard Albert Premier...
URL:https://www.sciencespo-alumni.fr/fr/event/dejeuner-semestriel-ac-monaco/2019/06/14/3681
BEGIN:VALARM
TRIGGER:-P0DT1H0M0S
ACTION:DISPLAY
END:VALARM
END:VEVENT
END:VCALENDAR