BEGIN:VCALENDAR
VERSION:2.0
PRODID:-//hacksw/handcal//NONSGML v1.0//EN
BEGIN:VEVENT
DTSTART:20180919T170000
DTEND:20180920T000000
LOCATION:Maison Franco-Japonaise de Tokyo
ORGANIZER;CN=Sciences Po Alumni:MAILTO:info@sciencespo-alumni.fr
SUMMARY:Rencontre avec Pascal Perrineau - Japon
DESCRIPTION: Mercredi 19 septembre 2018, Pascal Perrineau, président des Sciences Po Alumni et professeur des universités à Sciences Po, est intervenu à la Maison Franco Japonaise de Tokyo sur : "La France...
URL:https://www.sciencespo-alumni.fr/fr/event/rencontre-avec-pascal-perrineau-japon/2018/09/19/3591
BEGIN:VALARM
TRIGGER:-P0DT1H0M0S
ACTION:DISPLAY
END:VALARM
END:VEVENT
END:VCALENDAR