BEGIN:VCALENDAR
VERSION:2.0
PRODID:-//hacksw/handcal//NONSGML v1.0//EN
BEGIN:VEVENT
DTSTART:20190410T184500
DTEND:20190411T000000
LOCATION:\n18 rue de Varenne \n75007 Paris
ORGANIZER;CN=Sciences Po Alumni:MAILTO:info@sciencespo-alumni.fr
SUMMARY:Les associations : efficacité économique et impact social - saison 2
DESCRIPTION:  Le Groupe Économie sociale et solidaire de Sciences Po Alumnivous invite à la conférence\n Les associations : efficacité économique et impact socialMercredi 10 avril 2019de 18h45 à 20h00\n(accueil à...
URL:https://www.sciencespo-alumni.fr/fr/event/les-associations-efficacite-economique-et-impact-social-saison-2/2019/04/10/3457
BEGIN:VALARM
TRIGGER:-P0DT1H0M0S
ACTION:DISPLAY
END:VALARM
END:VEVENT
END:VCALENDAR