BEGIN:VCALENDAR
VERSION:2.0
PRODID:-//hacksw/handcal//NONSGML v1.0//EN
BEGIN:VEVENT
DTSTART:20180403T190000
DTEND:20180403T203000
LOCATION:USIC \n18 rue de Varenne \n75007 Paris
ORGANIZER;CN=Sciences Po Alumni:MAILTO:info@sciencespo-alumni.fr
SUMMARY:Réunion d'information - Réussir son évolution professionnelle du Public vers le Privé
DESCRIPTION:Attention changement de lieu !La réunion d'information se déroulera à l'USIC, 18 rue de Varenne, Paris 7ème.Vous souhaitez bien appréhender la réalité multiforme du privé, mesurer le chemin à...
URL:https://www.sciencespo-alumni.fr/fr/event/reunion-d-information-reussir-son-evolution-professionnelle-du-public-vers-le-prive/2018/04/03/3164
BEGIN:VALARM
TRIGGER:-P0DT1H0M0S
ACTION:DISPLAY
END:VALARM
END:VEVENT
END:VCALENDAR