BEGIN:VCALENDAR
VERSION:2.0
PRODID:-//hacksw/handcal//NONSGML v1.0//EN
BEGIN:VEVENT
DTSTART:20170428T083000
DTEND:20170428T103000
LOCATION:Procope \n13 Rue de l'Ancienne Comédie \n75006 Paris
ORGANIZER;CN=Sciences Po Alumni:MAILTO:info@sciencespo-alumni.fr
SUMMARY:Petit déjeuner-débat avec Claude d'Harcourt, directeur général de l'ARS
DESCRIPTION: Chers Amis,Nous avons le plaisir de vous convier au prochain petit déjeuner-débat du Groupe Santé de Sciences PoNotre invité sera Claude d'Harcourt, directeur général de l'ARS (Agence Régionale de...
URL:https://www.sciencespo-alumni.fr/fr/event/petit-dejeuner-debat-avec-claude-d-harcourt-directeur-general-de-l-ars/2017/04/28/2748
BEGIN:VALARM
TRIGGER:-P0DT1H0M0S
ACTION:DISPLAY
END:VALARM
END:VEVENT
END:VCALENDAR