BEGIN:VCALENDAR
VERSION:2.0
PRODID:-//hacksw/handcal//NONSGML v1.0//EN
BEGIN:VEVENT
DTSTART:20170331T083000
DTEND:20170331T103000
LOCATION:USIC \n18 rue de Varenne \n75007 PARIS
ORGANIZER;CN=Sciences Po Alumni:MAILTO:info@sciencespo-alumni.fr
SUMMARY:Public – Privé : Quelles Passerelles d’un secteur à l’autre ?
DESCRIPTION:
URL:https://www.sciencespo-alumni.fr/fr/event/public-prive-quelles-passerelles-d-un-secteur-a-l-autre/2017/03/31/2698
BEGIN:VALARM
TRIGGER:-P0DT1H0M0S
ACTION:DISPLAY
END:VALARM
END:VEVENT
END:VCALENDAR