BEGIN:VCALENDAR
VERSION:2.0
PRODID:-//hacksw/handcal//NONSGML v1.0//EN
BEGIN:VEVENT
DTSTART:20170530T190000
DTEND:20170531T000000
LOCATION:Fondation d'entreprise Ricard
ORGANIZER;CN=Sciences Po Alumni:MAILTO:info@sciencespo-alumni.fr
SUMMARY:Les prix littéraires : un marketing incontournable pour la visibilité et les ventes ?
DESCRIPTION:Parfois jugés élitistes, ou récompensant systématiquement les mêmes éditeurs, les prix littéraires restent un formidable outil marketing et commercial. Les livres primés jouissent d&apos;une...
URL:https://www.sciencespo-alumni.fr/fr/event/les-prix-litteraires-un-marketing-incontournable-pour-la-visibilite-et-les-ventes/2017/05/30/2457
BEGIN:VALARM
TRIGGER:-P0DT1H0M0S
ACTION:DISPLAY
END:VALARM
END:VEVENT
END:VCALENDAR