BEGIN:VCALENDAR
VERSION:2.0
PRODID:-//hacksw/handcal//NONSGML v1.0//EN
BEGIN:VEVENT
DTSTART:20260512T193000
DTEND:20260512T210000
LOCATION:Montmartre aux artistes \n189 rue Ordener \n75018 Paris
ORGANIZER;CN=Julie Rousseau:MAILTO:julie.rousseau@sciencespo-alumni.fr
SUMMARY:Visite privée de l’exposition "Ad Sidera" à Montmartre aux artistes
DESCRIPTION:\nLe Club Culture et art contemporain vous propose une visite privée de l'exposition Ad Sidera à Montmartre aux artistes.\nAd Sidera est une série de photographies et de vidéos infrarouges d’un...
URL:https://www.sciencespo-alumni.fr/en/event/visite-privee-de-l-exposition-ad-sidera-a-montmartre-aux-artistes/2026/05/12/9005
BEGIN:VALARM
TRIGGER:-P0DT1H0M0S
ACTION:DISPLAY
END:VALARM
END:VEVENT
END:VCALENDAR