BEGIN:VCALENDAR
VERSION:2.0
PRODID:-//hacksw/handcal//NONSGML v1.0//EN
BEGIN:VEVENT
DTSTART:20260418T100000
DTEND:20260418T130000
LOCATION:Sciences Po Menton \n11 Place St. Julien \n06500 Menton
ORGANIZER;CN=Julie Rousseau:MAILTO:julie.rousseau@sciencespo-alumni.fr
SUMMARY:De l’enquête à la publication : une rencontre entre l’Initiative Babel et le journal Bidaya
DESCRIPTION:The Babel Initiative is a recognized academic research association at Sciences Po Paris' Menton Campus. Led by undergraduate students, Babel promotes intercultural dialogue across the Mediterranean,...
URL:https://www.sciencespo-alumni.fr/en/event/de-l-enquete-a-la-publication-une-rencontre-entre-l-initiative-babel-et-le-journal-bidaya/2026/04/18/8997
BEGIN:VALARM
TRIGGER:-P0DT1H0M0S
ACTION:DISPLAY
END:VALARM
END:VEVENT
END:VCALENDAR