BEGIN:VCALENDAR
VERSION:2.0
PRODID:-//hacksw/handcal//NONSGML v1.0//EN
BEGIN:VEVENT
DTSTART:20260423T191500
DTEND:20260423T211500
LOCATION:Salle B.001 \n1 place Saint-Thomas d'Aquin \n75007 Paris
ORGANIZER;CN=Julie Rousseau:MAILTO:julie.rousseau@sciencespo-alumni.fr
SUMMARY:An Intimate Literary Panel Discussion with Christine Leunens and Hervé Le Tellier
DESCRIPTION:\nBetween Borders and Imagination: Crafting Literary Characters in a Globalised World\nJoin us for an intimate and thought-provoking panel discussion with internationally acclaimed authors Hervé Le...
URL:https://www.sciencespo-alumni.fr/en/event/an-intimate-literary-panel-discussion-with-christine-leunens-and-herve-le-tellier/2026/04/23/8995
BEGIN:VALARM
TRIGGER:-P0DT1H0M0S
ACTION:DISPLAY
END:VALARM
END:VEVENT
END:VCALENDAR