BEGIN:VCALENDAR
VERSION:2.0
PRODID:-//hacksw/handcal//NONSGML v1.0//EN
BEGIN:VEVENT
DTSTART:20260416T150000
DTEND:20260531T160000
LOCATION:Studio Hébertot \n78 bis Bd des Batignolles \n75017 Paris
ORGANIZER;CN=Guillaume Gallix - Affaires Publiques:MAILTO:guillaume.gallix@vae-solis.com
SUMMARY:Représentations de la pièce de théâtre Le Château d'Orgon
DESCRIPTION:Le Château d’OrgonCréationUn Molière des temps modernes\nDe Guillaume Gallix\nMis en scène par Julien Gallix\nAvec Jasmine Cano, Julien Gallix en alternance avec Nicolas Dépée-Martin, Maïa Laiter,...
URL:https://www.sciencespo-alumni.fr/en/group/affaires-publiques/134/calendar/representations-de-la-piece-de-theatre-le-chateau-d-orgon/2026/04/16/8985
BEGIN:VALARM
TRIGGER:-P0DT1H0M0S
ACTION:DISPLAY
END:VALARM
END:VEVENT
END:VCALENDAR