BEGIN:VCALENDAR
VERSION:2.0
PRODID:-//hacksw/handcal//NONSGML v1.0//EN
BEGIN:VEVENT
DTSTART:20251204T083000
DTEND:20251204T100000
LOCATION:Maison des Sciences Po - Campus Saint Thomas \n1, Place Saint Thomas d'Aquin \n75007 PARIS
ORGANIZER;CN=Alessandra Martinez:MAILTO:alessandra.martinez@sciencespo-alumni.fr
SUMMARY:Diversité en entreprise : progrès ou poudre aux yeux ?
DESCRIPTION:Le Groupe RH de Sciences Po Alumni a le plaisir de vous convier à une conférence sur le theme :« Diversité en entreprise : progrès ou poudre aux yeux ? »Depuis plus de quinze ans, la question de la...
URL:https://www.sciencespo-alumni.fr/en/event/diversite-en-entreprise-progres-ou-poudre-aux-yeux/2025/12/04/8664
BEGIN:VALARM
TRIGGER:-P0DT1H0M0S
ACTION:DISPLAY
END:VALARM
END:VEVENT
END:VCALENDAR