BEGIN:VCALENDAR
VERSION:2.0
PRODID:-//hacksw/handcal//NONSGML v1.0//EN
BEGIN:VEVENT
DTSTART:20250702T180000
DTEND:20250702T210000
LOCATION:Sciences Po - Amphithéâtre Albert Sorel - Leroy Beaulieu \n27, Rue Saint-Guillaume \n75007 PARIS
ORGANIZER;CN=Alessandra Martinez:MAILTO:alessandra.martinez@sciencespo-alumni.fr
SUMMARY:Public, privé et privé non lucratif :  l'hôpital dans tous ses états
DESCRIPTION:\nL’hôpital. Une vocation : soigner et guérir. Trois types de structures : hôpitaux publics, privés et privés associatifs. Et des enjeux qui peuvent être spécifiques ou communs aux trois...
URL:https://www.sciencespo-alumni.fr/en/event/public-prive-et-prive-non-lucratif-l-hopital-dans-tous-ses-etats/2025/07/02/8369
BEGIN:VALARM
TRIGGER:-P0DT1H0M0S
ACTION:DISPLAY
END:VALARM
END:VEVENT
END:VCALENDAR