BEGIN:VCALENDAR
VERSION:2.0
PRODID:-//hacksw/handcal//NONSGML v1.0//EN
BEGIN:VEVENT
DTSTART:20250520T180000
DTEND:20250527T190000
LOCATION:Consolato generale di Francia a Napoli ; Institut français Milano
ORGANIZER;CN=Gaëlle Brochet:MAILTO:gaelle.brochet@sciencespo.fr
SUMMARY:Il France Alumni Day torna a Napoli e Milano! - Iscrizioni aperte
DESCRIPTION:FRANCE ALUMNI DAY 2025NAPOLI - 20 MAGGIO MILANO - 27 MAGGIO\nHai studiato in Francia, e sei in possesso di un doppio titolo italo-francese,di una licence, un master o un doctoratHai conseguito un...
URL:https://www.sciencespo-alumni.fr/en/event/il-france-alumni-day-torna-a-napoli-e-milano-iscrizioni-aperte/2025/05/20/8252
BEGIN:VALARM
TRIGGER:-P0DT1H0M0S
ACTION:DISPLAY
END:VALARM
END:VEVENT
END:VCALENDAR