BEGIN:VCALENDAR
VERSION:2.0
PRODID:-//hacksw/handcal//NONSGML v1.0//EN
BEGIN:VEVENT
DTSTART:20250520T180000
DTEND:20250520T203000
LOCATION:Institut français Milano \n63, Corso Magenta \n20123 MILANO
ORGANIZER;CN=Camilla Pagani - Italie:MAILTO:pagani.camilla@gmail.com
SUMMARY:Les relations entre la France et l’Italie et la relance du jeu européen dans un nouveau contexte international
DESCRIPTION: \nChères et Chers alumni,A l’occasion de la publication du livre de Jean Pierre Darnis Transalpini, le Consulat général de France, l'Institut Français et Sciences Po Alumni, ont le plaisir de vous...
URL:https://www.sciencespo-alumni.fr/en/group/italie/204/calendar/les-relations-entre-la-france-et-l-italie-et-la-relance-du-jeu-europeen-dans-un-nouveau-contexte-international/2025/05/20/8243
BEGIN:VALARM
TRIGGER:-P0DT1H0M0S
ACTION:DISPLAY
END:VALARM
END:VEVENT
END:VCALENDAR