BEGIN:VCALENDAR
VERSION:2.0
PRODID:-//hacksw/handcal//NONSGML v1.0//EN
BEGIN:VEVENT
DTSTART:20250416T181500
DTEND:20250416T220000
LOCATION:Palazzo Farnese \n67, Piazza Farnese \n00186 ROMA
ORGANIZER;CN=Emma Lehobey:MAILTO:emma.lehobey@sciencespo.fr
SUMMARY:Un universo di opportunità: diverse prospettive sul futuro della space economy
DESCRIPTION:EVENTO RISERVATO AI MEMBRI  FRANCE ALUMNI E AI SOCI DELLE RETE DI ALUMNI PARTNERISCRIZIONE OBBLIGATORIA conEzio Bussoletti, Presidente E-Geos, Società dedicata all’osservazione della Terra e delle...
URL:https://www.sciencespo-alumni.fr/en/event/un-universo-di-opportunita-diverse-prospettive-sul-futuro-della-space-economy/2025/04/16/8182
BEGIN:VALARM
TRIGGER:-P0DT1H0M0S
ACTION:DISPLAY
END:VALARM
END:VEVENT
END:VCALENDAR