BEGIN:VCALENDAR
VERSION:2.0
PRODID:-//hacksw/handcal//NONSGML v1.0//EN
BEGIN:VEVENT
DTSTART:20240319T191500
DTEND:20240319T210000
LOCATION:Maison des Sciences Po - Campus Saint-Thomas \n1, Place Saint Thomas d'Aquin \n75007 PARIS
ORGANIZER;CN=Alessandra Martinez:MAILTO:alessandra.martinez@sciencespo-alumni.fr
SUMMARY:2024 : année charnière pour la France et le Sport ?
DESCRIPTION:Les Jeux Olympiques et Paralympiques de Paris 2024 seront les plus grands événements jamais organisés en France. Ils se tiendront du 26 juillet au 11 août 2024 pour les JO, et du 28 août au 8...
URL:https://www.sciencespo-alumni.fr/en/event/2024-annee-charniere-pour-la-france-et-le-sport/2024/03/19/7146
BEGIN:VALARM
TRIGGER:-P0DT1H0M0S
ACTION:DISPLAY
END:VALARM
END:VEVENT
END:VCALENDAR