BEGIN:VCALENDAR
VERSION:2.0
PRODID:-//hacksw/handcal//NONSGML v1.0//EN
BEGIN:VEVENT
DTSTART:20230330T190000
DTEND:20230330T230000
LOCATION:The People Bar \n7, Rue de la Krutenau \n67000 STRASBOURG
ORGANIZER;CN=Julie Rousseau:MAILTO:julie.rousseau@sciencespo-alumni.fr
SUMMARY:Afterwork avec le Club des Grandes Écoles en Alsace
DESCRIPTION:Cher(ère)s Alumni,\nLa liste d'inscriptions à notre afterwork CGEA du jeudi 30 mars est désormais ouverte !\nQue vous soyez Alumni des Écoles partenaires, Enseignant/étudiant/e-s ou conjoints...
URL:https://www.sciencespo-alumni.fr/en/event/afterwork-avec-le-club-des-grandes-ecoles-en-alsace/2023/03/30/6114
BEGIN:VALARM
TRIGGER:-P0DT1H0M0S
ACTION:DISPLAY
END:VALARM
END:VEVENT
END:VCALENDAR