BEGIN:VCALENDAR
VERSION:2.0
PRODID:-//hacksw/handcal//NONSGML v1.0//EN
BEGIN:VEVENT
DTSTART:20220604T093000
DTEND:20220604T173000
LOCATION:Académie du Climat \n2, Place Baudoyer \n75004 PARIS
ORGANIZER;CN=Siméon BRAND:MAILTO:simeon.brand@sciencespo.fr
SUMMARY:L'Etat face au dérèglement climatique - colloque annuel de la conférence Olivaint
DESCRIPTION:Le bureau du groupe Environnement et Développement Durable vous invite au colloque annuel de la Conférence Olivaint consacré cette année au rôle de l’Etat face au dérèglement climatique. « Notre...
URL:https://www.sciencespo-alumni.fr/en/event/l-etat-face-au-dereglement-climatique-colloque-annuel-de-la-conference-olivaint/2022/06/04/5535
BEGIN:VALARM
TRIGGER:-P0DT1H0M0S
ACTION:DISPLAY
END:VALARM
END:VEVENT
END:VCALENDAR