BEGIN:VCALENDAR
VERSION:2.0
PRODID:-//hacksw/handcal//NONSGML v1.0//EN
BEGIN:VEVENT
DTSTART:20201210T123000
DTEND:20201211T143000
LOCATION:
ORGANIZER;CN=Fabiola Batréau:MAILTO:fabiola.batreau@sciencespo-alumni.fr
SUMMARY:Profil de personnalité - MBTI Niveau 2
DESCRIPTION:\n
URL:https://www.sciencespo-alumni.fr/en/event/profil-de-personnalite-mbti-niveau-2/2020/12/10/4456
BEGIN:VALARM
TRIGGER:-P0DT1H0M0S
ACTION:DISPLAY
END:VALARM
END:VEVENT
END:VCALENDAR