BEGIN:VCALENDAR
VERSION:2.0
PRODID:-//hacksw/handcal//NONSGML v1.0//EN
BEGIN:VEVENT
DTSTART:20200430T090000
DTEND:20200501T000000
LOCATION:Online
ORGANIZER;CN=Sciences Po Alumni:MAILTO:info@sciencespo-alumni.fr
SUMMARY:La gestion des ressources humaines en période de crise :  l'exemple des Galeries Lafayette
DESCRIPTION:Diplômée de Sciences Po, Frédérique Chemaly reviendra sur la manière dont elle pilote la gestion de crise suite à l'arrêt brutal des activités des Galeries Lafayette, ainsi que sur la réponse RH...
URL:https://www.sciencespo-alumni.fr/en/event/la-gestion-des-ressources-humaines-en-periode-de-crise-l-exemple-des-galeries-lafayette/2020/04/30/4086
BEGIN:VALARM
TRIGGER:-P0DT1H0M0S
ACTION:DISPLAY
END:VALARM
END:VEVENT
END:VCALENDAR