BEGIN:VCALENDAR
VERSION:2.0
PRODID:-//hacksw/handcal//NONSGML v1.0//EN
BEGIN:VEVENT
DTSTART:20200327T122000
DTEND:20200327T133000
LOCATION:
ORGANIZER;CN=Sciences Po Alumni:MAILTO:info@sciencespo-alumni.fr
SUMMARY:WEBINAR - Le management de transition : une opportunité pour managers et dirigeants expérimentés
DESCRIPTION:Découvrir le métier, ses contours et les qualités du manager de transitionCe webinar est pour vous, si vous avez 45 ans et +, et si :- vous vous interrogez sur le management de transition\n- vous avez...
URL:https://www.sciencespo-alumni.fr/en/event/webinar-le-management-de-transition-une-opportunite-pour-managers-et-dirigeants-experimentes/2020/03/27/4055
BEGIN:VALARM
TRIGGER:-P0DT1H0M0S
ACTION:DISPLAY
END:VALARM
END:VEVENT
END:VCALENDAR