BEGIN:VCALENDAR
VERSION:2.0
PRODID:-//hacksw/handcal//NONSGML v1.0//EN
BEGIN:VEVENT
DTSTART:20191114T183000
DTEND:20191114T213000
LOCATION:ESCP Europe \n5, rue Armand Moisant \n75015 Paris
ORGANIZER;CN=Sciences Po Alumni:MAILTO:info@sciencespo-alumni.fr
SUMMARY:Prospective et compétences : enjeux d'aujourd'hui, vision du futur
DESCRIPTION: La durée de vie des compétences est passée de 30 ans dans les années 80 à… 5 ans aujourd'hui !       \nSavoir les identifier, les questionner, les développer est devenu un enjeu incontournable du...
URL:https://www.sciencespo-alumni.fr/en/event/prospective-et-competences-enjeux-d-aujourd-hui-vision-du-futur/2019/11/14/3860
BEGIN:VALARM
TRIGGER:-P0DT1H0M0S
ACTION:DISPLAY
END:VALARM
END:VEVENT
END:VCALENDAR