BEGIN:VCALENDAR
VERSION:2.0
PRODID:-//hacksw/handcal//NONSGML v1.0//EN
BEGIN:VEVENT
DTSTART:20170620T093000
DTEND:20170620T123000
LOCATION:Association des Sciences Po \n26 rue Saint Guillaume \n75007 Paris
ORGANIZER;CN=Sciences Po Alumni:MAILTO:info@sciencespo-alumni.fr
SUMMARY:Développer son pouvoir d'influence en réunion
DESCRIPTION:Cet atelier est pour vous si : Vous êtes dirigeant, manager ou jeune cadre à potentielVous êtes en poste ou en transition professionnelleVous souhaitez améliorer votre posture de dirigeant ou de futur...
URL:https://www.sciencespo-alumni.fr/en/event/developper-son-pouvoir-d-influence-en-reunion/2017/06/20/2774
BEGIN:VALARM
TRIGGER:-P0DT1H0M0S
ACTION:DISPLAY
END:VALARM
END:VEVENT
END:VCALENDAR