BEGIN:VCALENDAR
VERSION:2.0
PRODID:-//hacksw/handcal//NONSGML v1.0//EN
BEGIN:VEVENT
DTSTART:20160217T190000
DTEND:20160217T210000
LOCATION:Hôtel de l'industrie \n4 Place Saint Germain des Près \n75007 Paris
ORGANIZER;CN=Sciences Po Alumni:MAILTO:info@sciencespo-alumni.fr
SUMMARY:Education : De réforme en réforme, à quand le succès ?
DESCRIPTION:
URL:https://www.sciencespo-alumni.fr/en/event/education-de-reforme-en-reforme-a-quand-le-succes/2016/02/17/2146
BEGIN:VALARM
TRIGGER:-P0DT1H0M0S
ACTION:DISPLAY
END:VALARM
END:VEVENT
END:VCALENDAR